BEGIN:VCALENDAR
VERSION:2.0
PRODID:-//Side by Side Charter School - ECPv6.15.20//NONSGML v1.0//EN
CALSCALE:GREGORIAN
METHOD:PUBLISH
X-ORIGINAL-URL:https://www.sbscharter.org
X-WR-CALDESC:Events for Side by Side Charter School
REFRESH-INTERVAL;VALUE=DURATION:PT1H
X-Robots-Tag:noindex
X-PUBLISHED-TTL:PT1H
BEGIN:VTIMEZONE
TZID:America/New_York
BEGIN:DAYLIGHT
TZOFFSETFROM:-0500
TZOFFSETTO:-0400
TZNAME:EDT
DTSTART:20240310T070000
END:DAYLIGHT
BEGIN:STANDARD
TZOFFSETFROM:-0400
TZOFFSETTO:-0500
TZNAME:EST
DTSTART:20241103T060000
END:STANDARD
BEGIN:DAYLIGHT
TZOFFSETFROM:-0500
TZOFFSETTO:-0400
TZNAME:EDT
DTSTART:20250309T070000
END:DAYLIGHT
BEGIN:STANDARD
TZOFFSETFROM:-0400
TZOFFSETTO:-0500
TZNAME:EST
DTSTART:20251102T060000
END:STANDARD
BEGIN:DAYLIGHT
TZOFFSETFROM:-0500
TZOFFSETTO:-0400
TZNAME:EDT
DTSTART:20260308T070000
END:DAYLIGHT
BEGIN:STANDARD
TZOFFSETFROM:-0400
TZOFFSETTO:-0500
TZNAME:EST
DTSTART:20261101T060000
END:STANDARD
BEGIN:DAYLIGHT
TZOFFSETFROM:-0500
TZOFFSETTO:-0400
TZNAME:EDT
DTSTART:20270314T070000
END:DAYLIGHT
BEGIN:STANDARD
TZOFFSETFROM:-0400
TZOFFSETTO:-0500
TZNAME:EST
DTSTART:20271107T060000
END:STANDARD
END:VTIMEZONE
BEGIN:VEVENT
DTSTART;VALUE=DATE:20251224
DTEND;VALUE=DATE:20260103
DTSTAMP:20260420T161856
CREATED:20250718T154604Z
LAST-MODIFIED:20250718T154604Z
UID:67788-1766534400-1767398399@www.sbscharter.org
SUMMARY:December Break
DESCRIPTION:
URL:https://www.sbscharter.org/event/december-break/
END:VEVENT
BEGIN:VEVENT
DTSTART;VALUE=DATE:20260109
DTEND;VALUE=DATE:20260110
DTSTAMP:20260420T161856
CREATED:20250910T174925Z
LAST-MODIFIED:20250910T174925Z
UID:67898-1767916800-1768003199@www.sbscharter.org
SUMMARY:Student Dress Down Day
DESCRIPTION:
URL:https://www.sbscharter.org/event/student-dress-down-day-4/
END:VEVENT
BEGIN:VEVENT
DTSTART;VALUE=DATE:20260119
DTEND;VALUE=DATE:20260120
DTSTAMP:20260420T161856
CREATED:20250721T132305Z
LAST-MODIFIED:20251218T163606Z
UID:67790-1768780800-1768867199@www.sbscharter.org
SUMMARY:No School - Dr. Martin Luther King\, Jr. Day
DESCRIPTION:
URL:https://www.sbscharter.org/event/dr-martin-luther-king-jr-day/
END:VEVENT
BEGIN:VEVENT
DTSTART;VALUE=DATE:20260126
DTEND;VALUE=DATE:20260127
DTSTAMP:20260420T161856
CREATED:20250721T132555Z
LAST-MODIFIED:20250721T132555Z
UID:67792-1769385600-1769471999@www.sbscharter.org
SUMMARY:1:40 PM Early Dismissal
DESCRIPTION:Professional Development for Staff
URL:https://www.sbscharter.org/event/140-pm-early-dismissal-7/
END:VEVENT
BEGIN:VEVENT
DTSTART;TZID=America/New_York:20260130T143000
DTEND;TZID=America/New_York:20260130T151000
DTSTAMP:20260420T161856
CREATED:20250917T185911Z
LAST-MODIFIED:20250917T185911Z
UID:67916-1769783400-1769785800@www.sbscharter.org
SUMMARY:RISE Meeting
DESCRIPTION:
URL:https://www.sbscharter.org/event/rise-meeting-2/
CATEGORIES:All School Meeting
END:VEVENT
END:VCALENDAR