BEGIN:VCALENDAR
VERSION:2.0
PRODID:-//Side by Side Charter School - ECPv6.15.20//NONSGML v1.0//EN
CALSCALE:GREGORIAN
METHOD:PUBLISH
X-WR-CALNAME:Side by Side Charter School
X-ORIGINAL-URL:https://www.sbscharter.org
X-WR-CALDESC:Events for Side by Side Charter School
REFRESH-INTERVAL;VALUE=DURATION:PT1H
X-Robots-Tag:noindex
X-PUBLISHED-TTL:PT1H
BEGIN:VTIMEZONE
TZID:America/New_York
BEGIN:DAYLIGHT
TZOFFSETFROM:-0500
TZOFFSETTO:-0400
TZNAME:EDT
DTSTART:20240310T070000
END:DAYLIGHT
BEGIN:STANDARD
TZOFFSETFROM:-0400
TZOFFSETTO:-0500
TZNAME:EST
DTSTART:20241103T060000
END:STANDARD
BEGIN:DAYLIGHT
TZOFFSETFROM:-0500
TZOFFSETTO:-0400
TZNAME:EDT
DTSTART:20250309T070000
END:DAYLIGHT
BEGIN:STANDARD
TZOFFSETFROM:-0400
TZOFFSETTO:-0500
TZNAME:EST
DTSTART:20251102T060000
END:STANDARD
BEGIN:DAYLIGHT
TZOFFSETFROM:-0500
TZOFFSETTO:-0400
TZNAME:EDT
DTSTART:20260308T070000
END:DAYLIGHT
BEGIN:STANDARD
TZOFFSETFROM:-0400
TZOFFSETTO:-0500
TZNAME:EST
DTSTART:20261101T060000
END:STANDARD
END:VTIMEZONE
BEGIN:VEVENT
DTSTART;TZID=America/New_York:20250605T093000
DTEND;TZID=America/New_York:20250605T150000
DTSTAMP:20260421T013320
CREATED:20250519T150626Z
LAST-MODIFIED:20250519T150626Z
UID:67720-1749115800-1749135600@www.sbscharter.org
SUMMARY:Upper School Challenge & 8th Grade vs SBS Staff Volleyball Game
DESCRIPTION:Students from grades 6-8 will compete in fun team activities in the morning. In the afternoon the 8th grade students will challenge the staff in a competitive game of volleyball. Come in and cheer on the team of your choice!
URL:https://www.sbscharter.org/event/upper-school-challenge-8th-grade-vs-sbs-staff-volleyball-game/
END:VEVENT
BEGIN:VEVENT
DTSTART;TZID=America/New_York:20250606T093000
DTEND;TZID=America/New_York:20250606T123000
DTSTAMP:20260421T013320
CREATED:20250519T145321Z
LAST-MODIFIED:20250519T145321Z
UID:67718-1749202200-1749213000@www.sbscharter.org
SUMMARY:Field Day at Vet's Park
DESCRIPTION:All Side by Side Students will participate in fun games with their classmates. This fun filled morning is followed by a special pizza lunch back at the school.
URL:https://www.sbscharter.org/event/field-day-at-vets-park/
END:VEVENT
BEGIN:VEVENT
DTSTART;TZID=America/New_York:20250610T074500
DTEND;TZID=America/New_York:20250610T163000
DTSTAMP:20260421T013320
CREATED:20250519T144054Z
LAST-MODIFIED:20250519T144054Z
UID:67711-1749541500-1749573000@www.sbscharter.org
SUMMARY:Annual Upper School Holiday Hill Trip
DESCRIPTION:Upper School students will spend a fun filled day of swimming\, canoeing\, sports\, dancing and eating at Holiday Hill\, 43 Candee Road\, Prospect\, CT. This is the annual trip to celebrate a successful completion of the school year.
URL:https://www.sbscharter.org/event/annual-upper-school-holiday-hill-trip/
END:VEVENT
BEGIN:VEVENT
DTSTART;TZID=America/New_York:20250611T180000
DTEND;TZID=America/New_York:20250611T190000
DTSTAMP:20260421T013320
CREATED:20250519T144737Z
LAST-MODIFIED:20250519T144802Z
UID:67714-1749664800-1749668400@www.sbscharter.org
SUMMARY:8th Grade Commencement Ceremony
DESCRIPTION:Our 8th grade graduation ceremony will be celebrated today at 6PM in our gymnasium. The ceremony starts promptly at 6PM\, but graduates must arrive by 5PM to prepare. Come and cheer on our students\, but bring tissues! It is always an emotional event!
URL:https://www.sbscharter.org/event/8th-grade-commencement-ceremony/
END:VEVENT
BEGIN:VEVENT
DTSTART;VALUE=DATE:20250612
DTEND;VALUE=DATE:20250613
DTSTAMP:20260421T013320
CREATED:20240827T155619Z
LAST-MODIFIED:20240827T155619Z
UID:67510-1749686400-1749772799@www.sbscharter.org
SUMMARY:1:40 Dismissal
DESCRIPTION:
URL:https://www.sbscharter.org/event/140-dismissal-8/
END:VEVENT
BEGIN:VEVENT
DTSTART;VALUE=DATE:20250613
DTEND;VALUE=DATE:20250614
DTSTAMP:20260421T013320
CREATED:20240827T161212Z
LAST-MODIFIED:20240827T161212Z
UID:67512-1749772800-1749859199@www.sbscharter.org
SUMMARY:Last Day?
DESCRIPTION:Tentative last day of school
URL:https://www.sbscharter.org/event/last-day/
END:VEVENT
END:VCALENDAR