BEGIN:VCALENDAR
VERSION:2.0
PRODID:-//Side by Side Charter School - ECPv6.15.20//NONSGML v1.0//EN
CALSCALE:GREGORIAN
METHOD:PUBLISH
X-ORIGINAL-URL:https://www.sbscharter.org
X-WR-CALDESC:Events for Side by Side Charter School
REFRESH-INTERVAL;VALUE=DURATION:PT1H
X-Robots-Tag:noindex
X-PUBLISHED-TTL:PT1H
BEGIN:VTIMEZONE
TZID:America/New_York
BEGIN:DAYLIGHT
TZOFFSETFROM:-0500
TZOFFSETTO:-0400
TZNAME:EDT
DTSTART:20230312T070000
END:DAYLIGHT
BEGIN:STANDARD
TZOFFSETFROM:-0400
TZOFFSETTO:-0500
TZNAME:EST
DTSTART:20231105T060000
END:STANDARD
BEGIN:DAYLIGHT
TZOFFSETFROM:-0500
TZOFFSETTO:-0400
TZNAME:EDT
DTSTART:20240310T070000
END:DAYLIGHT
BEGIN:STANDARD
TZOFFSETFROM:-0400
TZOFFSETTO:-0500
TZNAME:EST
DTSTART:20241103T060000
END:STANDARD
BEGIN:DAYLIGHT
TZOFFSETFROM:-0500
TZOFFSETTO:-0400
TZNAME:EDT
DTSTART:20250309T070000
END:DAYLIGHT
BEGIN:STANDARD
TZOFFSETFROM:-0400
TZOFFSETTO:-0500
TZNAME:EST
DTSTART:20251102T060000
END:STANDARD
BEGIN:DAYLIGHT
TZOFFSETFROM:-0500
TZOFFSETTO:-0400
TZNAME:EDT
DTSTART:20260308T070000
END:DAYLIGHT
BEGIN:STANDARD
TZOFFSETFROM:-0400
TZOFFSETTO:-0500
TZNAME:EST
DTSTART:20261101T060000
END:STANDARD
END:VTIMEZONE
BEGIN:VEVENT
DTSTART;TZID=America/New_York:20241223T080000
DTEND;TZID=America/New_York:20250101T170000
DTSTAMP:20260421T095730
CREATED:20240716T165453Z
LAST-MODIFIED:20240828T200615Z
UID:67380-1734940800-1735750800@www.sbscharter.org
SUMMARY:Winter Recess
DESCRIPTION:School closed for Winter Recess.
URL:https://www.sbscharter.org/event/holiday-recess/
END:VEVENT
BEGIN:VEVENT
DTSTART;VALUE=DATE:20250120
DTEND;VALUE=DATE:20250121
DTSTAMP:20260421T095730
CREATED:20240826T160012Z
LAST-MODIFIED:20240826T160108Z
UID:67476-1737331200-1737417599@www.sbscharter.org
SUMMARY:MLK Day
DESCRIPTION:No School
URL:https://www.sbscharter.org/event/mlk-day/
END:VEVENT
BEGIN:VEVENT
DTSTART;VALUE=DATE:20250127
DTEND;VALUE=DATE:20250128
DTSTAMP:20260421T095730
CREATED:20240826T160551Z
LAST-MODIFIED:20240827T162616Z
UID:67482-1737936000-1738022399@www.sbscharter.org
SUMMARY:1:40 Dismissal - PD
DESCRIPTION:PD for All Staff
URL:https://www.sbscharter.org/event/140-dismissal-3/
END:VEVENT
BEGIN:VEVENT
DTSTART;TZID=America/New_York:20250128T171500
DTEND;TZID=America/New_York:20250128T171500
DTSTAMP:20260421T095730
CREATED:20240830T182208Z
LAST-MODIFIED:20240904T165016Z
UID:67579-1738084500-1738084500@www.sbscharter.org
SUMMARY:Board Meeting
DESCRIPTION:
URL:https://www.sbscharter.org/event/board-meeting-3/
END:VEVENT
END:VCALENDAR