BEGIN:VCALENDAR
VERSION:2.0
PRODID:-//Side by Side Charter School - ECPv6.15.20//NONSGML v1.0//EN
CALSCALE:GREGORIAN
METHOD:PUBLISH
X-ORIGINAL-URL:https://www.sbscharter.org
X-WR-CALDESC:Events for Side by Side Charter School
REFRESH-INTERVAL;VALUE=DURATION:PT1H
X-Robots-Tag:noindex
X-PUBLISHED-TTL:PT1H
BEGIN:VTIMEZONE
TZID:America/New_York
BEGIN:DAYLIGHT
TZOFFSETFROM:-0500
TZOFFSETTO:-0400
TZNAME:EDT
DTSTART:20230312T070000
END:DAYLIGHT
BEGIN:STANDARD
TZOFFSETFROM:-0400
TZOFFSETTO:-0500
TZNAME:EST
DTSTART:20231105T060000
END:STANDARD
BEGIN:DAYLIGHT
TZOFFSETFROM:-0500
TZOFFSETTO:-0400
TZNAME:EDT
DTSTART:20240310T070000
END:DAYLIGHT
BEGIN:STANDARD
TZOFFSETFROM:-0400
TZOFFSETTO:-0500
TZNAME:EST
DTSTART:20241103T060000
END:STANDARD
BEGIN:DAYLIGHT
TZOFFSETFROM:-0500
TZOFFSETTO:-0400
TZNAME:EDT
DTSTART:20250309T070000
END:DAYLIGHT
BEGIN:STANDARD
TZOFFSETFROM:-0400
TZOFFSETTO:-0500
TZNAME:EST
DTSTART:20251102T060000
END:STANDARD
END:VTIMEZONE
BEGIN:VEVENT
DTSTART;VALUE=DATE:20241105
DTEND;VALUE=DATE:20241106
DTSTAMP:20260421T143045
CREATED:20240826T142811Z
LAST-MODIFIED:20240830T180224Z
UID:67449-1730764800-1730851199@www.sbscharter.org
SUMMARY:No School
DESCRIPTION:PD for Teachers
URL:https://www.sbscharter.org/event/pd-teachers-only-2/
END:VEVENT
BEGIN:VEVENT
DTSTART;TZID=America/New_York:20241105T080000
DTEND;TZID=America/New_York:20241105T170000
DTSTAMP:20260421T143045
CREATED:20240830T180450Z
LAST-MODIFIED:20240830T180450Z
UID:67570-1730793600-1730826000@www.sbscharter.org
SUMMARY:Election Day
DESCRIPTION:Get out and vote!
URL:https://www.sbscharter.org/event/election-day/
END:VEVENT
BEGIN:VEVENT
DTSTART;VALUE=DATE:20241111
DTEND;VALUE=DATE:20241112
DTSTAMP:20260421T143045
CREATED:20240826T143258Z
LAST-MODIFIED:20240830T181015Z
UID:67451-1731283200-1731369599@www.sbscharter.org
SUMMARY:No School
DESCRIPTION:Veteran’s Day
URL:https://www.sbscharter.org/event/no-school-veterans-day/
END:VEVENT
BEGIN:VEVENT
DTSTART;TZID=America/New_York:20241111T080000
DTEND;TZID=America/New_York:20241111T170000
DTSTAMP:20260421T143045
CREATED:20240830T181055Z
LAST-MODIFIED:20240830T181154Z
UID:67573-1731312000-1731344400@www.sbscharter.org
SUMMARY:Veteran's Day
DESCRIPTION:
URL:https://www.sbscharter.org/event/veterans-day/
END:VEVENT
BEGIN:VEVENT
DTSTART;VALUE=DATE:20241114
DTEND;VALUE=DATE:20241115
DTSTAMP:20260421T143045
CREATED:20240826T144350Z
LAST-MODIFIED:20240826T144637Z
UID:67453-1731542400-1731628799@www.sbscharter.org
SUMMARY:Conferences - 1:40 Dismissal
DESCRIPTION:1:40 Dismissal
URL:https://www.sbscharter.org/event/conferences/
END:VEVENT
BEGIN:VEVENT
DTSTART;TZID=America/New_York:20241115T080000
DTEND;TZID=America/New_York:20241115T170000
DTSTAMP:20260421T143045
CREATED:20240828T191051Z
LAST-MODIFIED:20240828T191051Z
UID:67545-1731657600-1731690000@www.sbscharter.org
SUMMARY:First Marking Period Ends
DESCRIPTION:
URL:https://www.sbscharter.org/event/first-marking-period-ends/
END:VEVENT
BEGIN:VEVENT
DTSTART;TZID=America/New_York:20241120T163000
DTEND;TZID=America/New_York:20241120T163000
DTSTAMP:20260421T143045
CREATED:20240911T155821Z
LAST-MODIFIED:20240911T155821Z
UID:67624-1732120200-1732120200@www.sbscharter.org
SUMMARY:Grade Entering Closes at 4:30
DESCRIPTION:Grade entering closes at 4:30
URL:https://www.sbscharter.org/event/grade-entering-closes-at-430/
END:VEVENT
BEGIN:VEVENT
DTSTART;VALUE=DATE:20241121
DTEND;VALUE=DATE:20241122
DTSTAMP:20260421T143045
CREATED:20240826T150119Z
LAST-MODIFIED:20240826T150741Z
UID:67459-1732147200-1732233599@www.sbscharter.org
SUMMARY:1:40 Dismissal
DESCRIPTION:Conference Night until 7:00
URL:https://www.sbscharter.org/event/conference-night-140-dismissal/
END:VEVENT
BEGIN:VEVENT
DTSTART;TZID=America/New_York:20241122T120000
DTEND;TZID=America/New_York:20241122T120000
DTSTAMP:20260421T143045
CREATED:20240911T160153Z
LAST-MODIFIED:20240911T160923Z
UID:67626-1732276800-1732276800@www.sbscharter.org
SUMMARY:Grade corrections by 1:00pm
DESCRIPTION:
URL:https://www.sbscharter.org/event/teachers-email-angelo-to-let-him-know-if-reports-are-ok-as-is-or-need-corrections-deadline-for-corrections-is-12pm-hard-copies-will-be-printed-for-teachers-and-emailed-to-parents/
END:VEVENT
BEGIN:VEVENT
DTSTART;TZID=America/New_York:20241126T051500
DTEND;TZID=America/New_York:20241126T190000
DTSTAMP:20260421T143045
CREATED:20240828T191646Z
LAST-MODIFIED:20240828T191646Z
UID:67547-1732598100-1732647600@www.sbscharter.org
SUMMARY:Board Meeting
DESCRIPTION:
URL:https://www.sbscharter.org/event/board-meeting-2/
END:VEVENT
BEGIN:VEVENT
DTSTART;VALUE=DATE:20241127
DTEND;VALUE=DATE:20241128
DTSTAMP:20260421T143045
CREATED:20240826T155041Z
LAST-MODIFIED:20240828T194109Z
UID:67467-1732665600-1732751999@www.sbscharter.org
SUMMARY:1:40 dismissal - Thanksgiving Recess begins
DESCRIPTION:
URL:https://www.sbscharter.org/event/thanksgiving-140-dismissal/
END:VEVENT
BEGIN:VEVENT
DTSTART;TZID=America/New_York:20241127T134000
DTEND;TZID=America/New_York:20241127T134000
DTSTAMP:20260421T143045
CREATED:20240830T181329Z
LAST-MODIFIED:20240911T161700Z
UID:67575-1732714800-1732714800@www.sbscharter.org
SUMMARY:Thanksgiving Recess begins
DESCRIPTION:
URL:https://www.sbscharter.org/event/thanksgiving-recess-begins/
END:VEVENT
BEGIN:VEVENT
DTSTART;TZID=America/New_York:20241128T080000
DTEND;TZID=America/New_York:20241129T170000
DTSTAMP:20260421T143045
CREATED:20240828T194405Z
LAST-MODIFIED:20240828T194405Z
UID:67552-1732780800-1732899600@www.sbscharter.org
SUMMARY:No School
DESCRIPTION:Thanksgiving Recess
URL:https://www.sbscharter.org/event/no-school-7/
END:VEVENT
END:VCALENDAR