BEGIN:VCALENDAR
VERSION:2.0
PRODID:-//Side by Side Charter School - ECPv6.15.20//NONSGML v1.0//EN
CALSCALE:GREGORIAN
METHOD:PUBLISH
X-WR-CALNAME:Side by Side Charter School
X-ORIGINAL-URL:https://www.sbscharter.org
X-WR-CALDESC:Events for Side by Side Charter School
REFRESH-INTERVAL;VALUE=DURATION:PT1H
X-Robots-Tag:noindex
X-PUBLISHED-TTL:PT1H
BEGIN:VTIMEZONE
TZID:America/New_York
BEGIN:DAYLIGHT
TZOFFSETFROM:-0500
TZOFFSETTO:-0400
TZNAME:EDT
DTSTART:20230312T070000
END:DAYLIGHT
BEGIN:STANDARD
TZOFFSETFROM:-0400
TZOFFSETTO:-0500
TZNAME:EST
DTSTART:20231105T060000
END:STANDARD
BEGIN:DAYLIGHT
TZOFFSETFROM:-0500
TZOFFSETTO:-0400
TZNAME:EDT
DTSTART:20240310T070000
END:DAYLIGHT
BEGIN:STANDARD
TZOFFSETFROM:-0400
TZOFFSETTO:-0500
TZNAME:EST
DTSTART:20241103T060000
END:STANDARD
BEGIN:DAYLIGHT
TZOFFSETFROM:-0500
TZOFFSETTO:-0400
TZNAME:EDT
DTSTART:20250309T070000
END:DAYLIGHT
BEGIN:STANDARD
TZOFFSETFROM:-0400
TZOFFSETTO:-0500
TZNAME:EST
DTSTART:20251102T060000
END:STANDARD
END:VTIMEZONE
BEGIN:VEVENT
DTSTART;VALUE=DATE:20240902
DTEND;VALUE=DATE:20240903
DTSTAMP:20260421T061959
CREATED:20240820T183957Z
LAST-MODIFIED:20240820T184047Z
UID:67418-1725235200-1725321599@www.sbscharter.org
SUMMARY:Labor Day - No School
DESCRIPTION:
URL:https://www.sbscharter.org/event/labor-day-no-school-2/
END:VEVENT
BEGIN:VEVENT
DTSTART;TZID=America/New_York:20240911T180000
DTEND;TZID=America/New_York:20240911T200000
DTSTAMP:20260421T061959
CREATED:20240904T162555Z
LAST-MODIFIED:20240904T162737Z
UID:67587-1726077600-1726084800@www.sbscharter.org
SUMMARY:Upper School Town Hall Parent Forum
DESCRIPTION:Pizza dinner in the gym at 6:00pm\, followed by a group conversation covering various topics including: behavioral expectations\, review of mandatory dress code and uniform policy\, home-school communication\, student attendance. \nAll 6-8 students\, and at least 1 parent/guardian are required to attend.  We do not provide childcare for this event. \n 
URL:https://www.sbscharter.org/event/upper-school-town-hall-parent-forum/
END:VEVENT
BEGIN:VEVENT
DTSTART;TZID=America/New_York:20240912T090000
DTEND;TZID=America/New_York:20240912T160000
DTSTAMP:20260421T061959
CREATED:20240828T174931Z
LAST-MODIFIED:20240830T172935Z
UID:67527-1726131600-1726156800@www.sbscharter.org
SUMMARY:Onsite PD for Mary\, Jess Vitale\, Sean\, Tahira\, Amanda
DESCRIPTION:Onsite PD for Mary\, Jess Vitale\, Sean\, Tahira\, Amanda (break 11:20-12:30)
URL:https://www.sbscharter.org/event/onsite-pd-for/
END:VEVENT
BEGIN:VEVENT
DTSTART;TZID=America/New_York:20240918T185500
DTEND;TZID=America/New_York:20240918T193000
DTSTAMP:20260421T061959
CREATED:20240904T164108Z
LAST-MODIFIED:20240904T164425Z
UID:67590-1726685700-1726687800@www.sbscharter.org
SUMMARY:Lower School Back-to-School Night
DESCRIPTION:This event is for grades PK through 5. All staff report to the gym by 5:55pm. General instructions and info about the 2024-25 school year from 6:00pm-6:25pm. \n6:25pm to 6:55pm: Grades 2\,3\,4\,5 parents visit classrooms and PK-1 stays in gym to meet specialist teachers and administrative staff. \n7:00pm to 7:30pm: Grades PK-1 parents visit classrooms and Grades 2-5 return to the gym. \nChildcare will not be provided for this event. \n 
URL:https://www.sbscharter.org/event/lower-school-back-to-school-night-2/
END:VEVENT
BEGIN:VEVENT
DTSTART;VALUE=DATE:20240923
DTEND;VALUE=DATE:20240924
DTSTAMP:20260421T061959
CREATED:20240820T184435Z
LAST-MODIFIED:20240904T181728Z
UID:67422-1727049600-1727135999@www.sbscharter.org
SUMMARY:1:40 Dismissal/PD
DESCRIPTION:K-3 teachers M-Class PD starts at 12:30pm
URL:https://www.sbscharter.org/event/2-hour-early-dismissal-professional-development-3/
END:VEVENT
END:VCALENDAR