BEGIN:VCALENDAR
VERSION:2.0
PRODID:-//Side by Side Charter School - ECPv6.15.20//NONSGML v1.0//EN
CALSCALE:GREGORIAN
METHOD:PUBLISH
X-ORIGINAL-URL:https://www.sbscharter.org
X-WR-CALDESC:Events for Side by Side Charter School
REFRESH-INTERVAL;VALUE=DURATION:PT1H
X-Robots-Tag:noindex
X-PUBLISHED-TTL:PT1H
BEGIN:VTIMEZONE
TZID:America/New_York
BEGIN:DAYLIGHT
TZOFFSETFROM:-0500
TZOFFSETTO:-0400
TZNAME:EDT
DTSTART:20230312T070000
END:DAYLIGHT
BEGIN:STANDARD
TZOFFSETFROM:-0400
TZOFFSETTO:-0500
TZNAME:EST
DTSTART:20231105T060000
END:STANDARD
BEGIN:DAYLIGHT
TZOFFSETFROM:-0500
TZOFFSETTO:-0400
TZNAME:EDT
DTSTART:20240310T070000
END:DAYLIGHT
BEGIN:STANDARD
TZOFFSETFROM:-0400
TZOFFSETTO:-0500
TZNAME:EST
DTSTART:20241103T060000
END:STANDARD
BEGIN:DAYLIGHT
TZOFFSETFROM:-0500
TZOFFSETTO:-0400
TZNAME:EDT
DTSTART:20250309T070000
END:DAYLIGHT
BEGIN:STANDARD
TZOFFSETFROM:-0400
TZOFFSETTO:-0500
TZNAME:EST
DTSTART:20251102T060000
END:STANDARD
END:VTIMEZONE
BEGIN:VEVENT
DTSTART;VALUE=DATE:20240503
DTEND;VALUE=DATE:20240504
DTSTAMP:20260421T223431
CREATED:20231102T180857Z
LAST-MODIFIED:20240508T144156Z
UID:67153-1714694400-1714780799@www.sbscharter.org
SUMMARY:Dress Down Day (Rescheduled to May 10)
DESCRIPTION:Students may wear an outfit of their choice on Dress Down Days.  Please remember that clothing and footwear must be appropriate for active play during recess\, gym and art class
URL:https://www.sbscharter.org/event/dress-down-day-for-students-and-staff-13/
CATEGORIES:Dress Down Day
END:VEVENT
BEGIN:VEVENT
DTSTART;VALUE=DATE:20240510
DTEND;VALUE=DATE:20240511
DTSTAMP:20260421T223431
CREATED:20240508T144317Z
LAST-MODIFIED:20240508T144317Z
UID:67332-1715299200-1715385599@www.sbscharter.org
SUMMARY:Dress down day (Rescheduled from May 3)
DESCRIPTION:
URL:https://www.sbscharter.org/event/dress-down-day-rescheduled-from-may-3/
END:VEVENT
BEGIN:VEVENT
DTSTART;TZID=America/New_York:20240513T134000
DTEND;TZID=America/New_York:20240513T134000
DTSTAMP:20260421T223431
CREATED:20240103T203501Z
LAST-MODIFIED:20240103T203501Z
UID:67233-1715607600-1715607600@www.sbscharter.org
SUMMARY:2 Hour Early Dismissal - Professional Development
DESCRIPTION:There will be a two hour early dismissal for professional development.
URL:https://www.sbscharter.org/event/2-hour-early-dismissal-professional-development-2/
END:VEVENT
BEGIN:VEVENT
DTSTART;TZID=America/New_York:20240515T180000
DTEND;TZID=America/New_York:20240515T190000
DTSTAMP:20260421T223431
CREATED:20240508T143349Z
LAST-MODIFIED:20240508T143349Z
UID:67327-1715796000-1715799600@www.sbscharter.org
SUMMARY:SBS Spring Concert
DESCRIPTION:Students in grades 4th through 8th will participate in a music concert on Wednesday\, May 15 from 6-7 P.M.  Students have been asked to wear their school uniform and arrive promptly at 5:45 P.M.
URL:https://www.sbscharter.org/event/sbs-spring-concert/
END:VEVENT
BEGIN:VEVENT
DTSTART;TZID=America/New_York:20240522T080000
DTEND;TZID=America/New_York:20240524T170000
DTSTAMP:20260421T223431
CREATED:20230608T184105Z
LAST-MODIFIED:20230608T184105Z
UID:66999-1716364800-1716570000@www.sbscharter.org
SUMMARY:Eighth grade trip to Washington\, D.C.
DESCRIPTION:
URL:https://www.sbscharter.org/event/eighth-grade-trip-to-washington-d-c-2/
END:VEVENT
BEGIN:VEVENT
DTSTART;TZID=America/New_York:20240524T160000
DTEND;TZID=America/New_York:20240524T160000
DTSTAMP:20260421T223431
CREATED:20240411T162322Z
LAST-MODIFIED:20240411T162444Z
UID:67299-1716566400-1716566400@www.sbscharter.org
SUMMARY:BOD Parent Representative Election Deadline
DESCRIPTION:All ballots for the parent representative seat on the Board of Directors must be returned no later than Friday\, May 24 at 4:00 P.M.
URL:https://www.sbscharter.org/event/bod-parent-representative-election-deadline/
END:VEVENT
BEGIN:VEVENT
DTSTART;VALUE=DATE:20240527
DTEND;VALUE=DATE:20240528
DTSTAMP:20260421T223431
CREATED:20240103T203638Z
LAST-MODIFIED:20240103T203638Z
UID:67235-1716768000-1716854399@www.sbscharter.org
SUMMARY:Memorial Day - No School
DESCRIPTION:School closed in observance of Memorial Day.
URL:https://www.sbscharter.org/event/memorial-day-no-school-2/
END:VEVENT
BEGIN:VEVENT
DTSTART;TZID=America/New_York:20240528T080000
DTEND;TZID=America/New_York:20240528T170000
DTSTAMP:20260421T223431
CREATED:20230927T194441Z
LAST-MODIFIED:20230927T194441Z
UID:67112-1716883200-1716915600@www.sbscharter.org
SUMMARY:Board of Directors Meeting
DESCRIPTION:The Board of Directors meet in person on the fourth Tuesday of each month.  The meeting begins at 5:15 P.M. with a public session.
URL:https://www.sbscharter.org/event/board-of-directors-meeting-34/
END:VEVENT
BEGIN:VEVENT
DTSTART;TZID=America/New_York:20240529T183000
DTEND;TZID=America/New_York:20240529T193000
DTSTAMP:20260421T223431
CREATED:20240320T151519Z
LAST-MODIFIED:20240522T172922Z
UID:67266-1717007400-1717011000@www.sbscharter.org
SUMMARY:SBS Art Show
DESCRIPTION:SBS art show
URL:https://www.sbscharter.org/event/sbs-art-show/
END:VEVENT
END:VCALENDAR