BEGIN:VCALENDAR
VERSION:2.0
PRODID:-//Side by Side Charter School - ECPv6.15.20//NONSGML v1.0//EN
CALSCALE:GREGORIAN
METHOD:PUBLISH
X-ORIGINAL-URL:https://www.sbscharter.org
X-WR-CALDESC:Events for Side by Side Charter School
REFRESH-INTERVAL;VALUE=DURATION:PT1H
X-Robots-Tag:noindex
X-PUBLISHED-TTL:PT1H
BEGIN:VTIMEZONE
TZID:America/New_York
BEGIN:DAYLIGHT
TZOFFSETFROM:-0500
TZOFFSETTO:-0400
TZNAME:EDT
DTSTART:20230312T070000
END:DAYLIGHT
BEGIN:STANDARD
TZOFFSETFROM:-0400
TZOFFSETTO:-0500
TZNAME:EST
DTSTART:20231105T060000
END:STANDARD
BEGIN:DAYLIGHT
TZOFFSETFROM:-0500
TZOFFSETTO:-0400
TZNAME:EDT
DTSTART:20240310T070000
END:DAYLIGHT
BEGIN:STANDARD
TZOFFSETFROM:-0400
TZOFFSETTO:-0500
TZNAME:EST
DTSTART:20241103T060000
END:STANDARD
BEGIN:DAYLIGHT
TZOFFSETFROM:-0500
TZOFFSETTO:-0400
TZNAME:EDT
DTSTART:20250309T070000
END:DAYLIGHT
BEGIN:STANDARD
TZOFFSETFROM:-0400
TZOFFSETTO:-0500
TZNAME:EST
DTSTART:20251102T060000
END:STANDARD
END:VTIMEZONE
BEGIN:VEVENT
DTSTART;TZID=America/New_York:20240401T160000
DTEND;TZID=America/New_York:20240401T160000
DTSTAMP:20260422T025953
CREATED:20240103T153831Z
LAST-MODIFIED:20240103T153831Z
UID:67211-1711987200-1711987200@www.sbscharter.org
SUMMARY:SBS Enrollment Lottery Application Deadline
DESCRIPTION:Lottery application deadline at 4 P.M. today.
URL:https://www.sbscharter.org/event/sbs-enrollment-lottery-application-deadline/
END:VEVENT
BEGIN:VEVENT
DTSTART;VALUE=DATE:20240405
DTEND;VALUE=DATE:20240406
DTSTAMP:20260422T025953
CREATED:20231102T180744Z
LAST-MODIFIED:20231102T181625Z
UID:67151-1712275200-1712361599@www.sbscharter.org
SUMMARY:Dress Down Day for students and staff
DESCRIPTION:Students may wear an outfit of their choice on Dress Down Days.  Please remember that clothing and footwear must be appropriate for active play during recess\, gym and art class.
URL:https://www.sbscharter.org/event/whats-new-wednesday/
CATEGORIES:Dress Down Day
END:VEVENT
BEGIN:VEVENT
DTSTART;VALUE=DATE:20240415
DTEND;VALUE=DATE:20240420
DTSTAMP:20260422T025953
CREATED:20240103T201627Z
LAST-MODIFIED:20240103T201627Z
UID:67219-1713139200-1713571199@www.sbscharter.org
SUMMARY:Spring Recess; No School
DESCRIPTION:School will be closed for the Spring Recess from Monday\, April 15 through Friday\, April 19.
URL:https://www.sbscharter.org/event/spring-recess-no-school-2/
END:VEVENT
BEGIN:VEVENT
DTSTART;TZID=America/New_York:20240423T171500
DTEND;TZID=America/New_York:20240423T190000
DTSTAMP:20260422T025953
CREATED:20230927T194400Z
LAST-MODIFIED:20230927T194400Z
UID:67110-1713892500-1713898800@www.sbscharter.org
SUMMARY:Board of Directors Meeting
DESCRIPTION:The Board of Directors meet in person on the fourth Tuesday of each month.  The meeting begins at 5:15 P.M. with a public session.
URL:https://www.sbscharter.org/event/board-of-directors-meeting-33/
END:VEVENT
BEGIN:VEVENT
DTSTART;TZID=America/New_York:20240424T170000
DTEND;TZID=America/New_York:20240424T170000
DTSTAMP:20260422T025953
CREATED:20240103T154055Z
LAST-MODIFIED:20240103T154055Z
UID:67213-1713978000-1713978000@www.sbscharter.org
SUMMARY:SBS Public Application Lottery
DESCRIPTION:SBS Public lottery for 2024-2025 enrollment will take place at 5:00 P.M.
URL:https://www.sbscharter.org/event/sbs-public-application-lottery/
END:VEVENT
BEGIN:VEVENT
DTSTART;TZID=America/New_York:20240425T170000
DTEND;TZID=America/New_York:20240425T170000
DTSTAMP:20260422T025953
CREATED:20240904T170642Z
LAST-MODIFIED:20240904T184032Z
UID:67602-1714064400-1714064400@www.sbscharter.org
SUMMARY:Lottery Drawing
DESCRIPTION:
URL:https://www.sbscharter.org/event/lottery-drawing/
END:VEVENT
BEGIN:VEVENT
DTSTART;TZID=America/New_York:20240425T180000
DTEND;TZID=America/New_York:20240425T193000
DTSTAMP:20260422T025953
CREATED:20240328T054932Z
LAST-MODIFIED:20240411T154728Z
UID:67288-1714068000-1714073400@www.sbscharter.org
SUMMARY:SEL Parent Night
DESCRIPTION:Parents of students in grades K-8 are invited to attend a parent forum about social-emotional learning\, presented by guest speakers\, James Martinez of the Norwalk Public Schools and Shaaron Sinvilcin and Anamilena Moreno of Norwalk Acts.  There will be two separate presentations\, one in English and another in Spanish.
URL:https://www.sbscharter.org/event/sel-parent-night/
END:VEVENT
BEGIN:VEVENT
DTSTART;TZID=America/New_York:20240429T134000
DTEND;TZID=America/New_York:20240429T134000
DTSTAMP:20260422T025953
CREATED:20240103T203017Z
LAST-MODIFIED:20240103T203017Z
UID:67231-1714398000-1714398000@www.sbscharter.org
SUMMARY:2 Hour Early Dismissal - Professional Development
DESCRIPTION:Students will dismiss at 1:40 P.M.  There are no after school activities on early dismissal days.
URL:https://www.sbscharter.org/event/2-hour-early-dismissal-professional-development/
END:VEVENT
END:VCALENDAR