BEGIN:VCALENDAR
VERSION:2.0
PRODID:-//Side by Side Charter School - ECPv6.15.20//NONSGML v1.0//EN
CALSCALE:GREGORIAN
METHOD:PUBLISH
X-ORIGINAL-URL:https://www.sbscharter.org
X-WR-CALDESC:Events for Side by Side Charter School
REFRESH-INTERVAL;VALUE=DURATION:PT1H
X-Robots-Tag:noindex
X-PUBLISHED-TTL:PT1H
BEGIN:VTIMEZONE
TZID:America/New_York
BEGIN:DAYLIGHT
TZOFFSETFROM:-0500
TZOFFSETTO:-0400
TZNAME:EDT
DTSTART:20230312T070000
END:DAYLIGHT
BEGIN:STANDARD
TZOFFSETFROM:-0400
TZOFFSETTO:-0500
TZNAME:EST
DTSTART:20231105T060000
END:STANDARD
BEGIN:DAYLIGHT
TZOFFSETFROM:-0500
TZOFFSETTO:-0400
TZNAME:EDT
DTSTART:20240310T070000
END:DAYLIGHT
BEGIN:STANDARD
TZOFFSETFROM:-0400
TZOFFSETTO:-0500
TZNAME:EST
DTSTART:20241103T060000
END:STANDARD
BEGIN:DAYLIGHT
TZOFFSETFROM:-0500
TZOFFSETTO:-0400
TZNAME:EDT
DTSTART:20250309T070000
END:DAYLIGHT
BEGIN:STANDARD
TZOFFSETFROM:-0400
TZOFFSETTO:-0500
TZNAME:EST
DTSTART:20251102T060000
END:STANDARD
END:VTIMEZONE
BEGIN:VEVENT
DTSTART;VALUE=DATE:20240301
DTEND;VALUE=DATE:20240302
DTSTAMP:20260422T073523
CREATED:20231102T175954Z
LAST-MODIFIED:20231102T180459Z
UID:67149-1709251200-1709337599@www.sbscharter.org
SUMMARY:Dress Down Day for students and staff
DESCRIPTION:Students may wear an outfit of their choice on Dress Down Days.  Please remember that clothing and footwear must be appropriate for active play during recess\, gym and art class.
URL:https://www.sbscharter.org/event/dress-down-day-for-students-and-staff-12/
CATEGORIES:Dress Down Day
END:VEVENT
BEGIN:VEVENT
DTSTART;VALUE=DATE:20240301
DTEND;VALUE=DATE:20240302
DTSTAMP:20260422T073523
CREATED:20240103T202004Z
LAST-MODIFIED:20240103T202004Z
UID:67221-1709251200-1709337599@www.sbscharter.org
SUMMARY:End of Second Marking Period
DESCRIPTION:End of second marking period.
URL:https://www.sbscharter.org/event/end-of-second-marking-period-3/
END:VEVENT
BEGIN:VEVENT
DTSTART;TZID=America/New_York:20240314T141000
DTEND;TZID=America/New_York:20240314T141000
DTSTAMP:20260422T073523
CREATED:20240103T202245Z
LAST-MODIFIED:20240103T202245Z
UID:67223-1710425400-1710425400@www.sbscharter.org
SUMMARY:90 Minute Early Dismissal for Conferences
DESCRIPTION:Students are dismissed today at 2:10 P.M. for parent teacher conferences.  There are no after school activities on early dismissal days.
URL:https://www.sbscharter.org/event/90-minute-early-dismissal-for-conferences/
END:VEVENT
BEGIN:VEVENT
DTSTART;VALUE=DATE:20240318
DTEND;VALUE=DATE:20240321
DTSTAMP:20260422T073523
CREATED:20240103T151816Z
LAST-MODIFIED:20240103T151816Z
UID:67203-1710720000-1710979199@www.sbscharter.org
SUMMARY:2023 Ecology School Trip for Grades 5/6
DESCRIPTION:Fifth and sixth grade students will travel to The Ecology School at River Bend Farm in Saco\, Maine for “an exciting opportunity to build community\, learn about ecology in a variety of ecosystems and explore sustainable farming and food practices.”
URL:https://www.sbscharter.org/event/2023-ecology-school-trip-for-grades-5-6/
END:VEVENT
BEGIN:VEVENT
DTSTART;TZID=America/New_York:20240320T170000
DTEND;TZID=America/New_York:20240320T180000
DTSTAMP:20260422T073523
CREATED:20240103T153522Z
LAST-MODIFIED:20240103T154236Z
UID:67209-1710954000-1710957600@www.sbscharter.org
SUMMARY:SBS Open House/Info Session
DESCRIPTION:Open house/info session for enrollment applicants.
URL:https://www.sbscharter.org/event/sbs-open-house-info-session/
END:VEVENT
BEGIN:VEVENT
DTSTART;TZID=America/New_York:20240321T141000
DTEND;TZID=America/New_York:20240321T141000
DTSTAMP:20260422T073523
CREATED:20240103T202435Z
LAST-MODIFIED:20240103T202435Z
UID:67225-1711030200-1711030200@www.sbscharter.org
SUMMARY:Conference Night; 90 Minute Early Dismissal
DESCRIPTION:Students are dismissed today at 2:10 P.M. for parent teacher conferences.  There are no after school activities on early dismissal days.
URL:https://www.sbscharter.org/event/conference-night-90-minute-early-dismissal-4/
END:VEVENT
BEGIN:VEVENT
DTSTART;TZID=America/New_York:20240326T171500
DTEND;TZID=America/New_York:20240326T190000
DTSTAMP:20260422T073523
CREATED:20230927T194247Z
LAST-MODIFIED:20230927T194247Z
UID:67108-1711473300-1711479600@www.sbscharter.org
SUMMARY:Board of Directors Meeting
DESCRIPTION:The Board of Directors meet in person on the fourth Tuesday of each month.  The meeting begins at 5:15 P.M. with a public session.
URL:https://www.sbscharter.org/event/board-of-directors-meeting-32/
END:VEVENT
BEGIN:VEVENT
DTSTART;VALUE=DATE:20240329
DTEND;VALUE=DATE:20240330
DTSTAMP:20260422T073523
CREATED:20240103T202805Z
LAST-MODIFIED:20240103T202805Z
UID:67229-1711670400-1711756799@www.sbscharter.org
SUMMARY:Good Friday - No School
DESCRIPTION:School will be closed in observance of Good Friday.
URL:https://www.sbscharter.org/event/good-friday-no-school-2/
END:VEVENT
END:VCALENDAR