BEGIN:VCALENDAR
VERSION:2.0
PRODID:-//Side by Side Charter School - ECPv6.15.20//NONSGML v1.0//EN
CALSCALE:GREGORIAN
METHOD:PUBLISH
X-WR-CALNAME:Side by Side Charter School
X-ORIGINAL-URL:https://www.sbscharter.org
X-WR-CALDESC:Events for Side by Side Charter School
REFRESH-INTERVAL;VALUE=DURATION:PT1H
X-Robots-Tag:noindex
X-PUBLISHED-TTL:PT1H
BEGIN:VTIMEZONE
TZID:America/New_York
BEGIN:DAYLIGHT
TZOFFSETFROM:-0500
TZOFFSETTO:-0400
TZNAME:EDT
DTSTART:20220313T070000
END:DAYLIGHT
BEGIN:STANDARD
TZOFFSETFROM:-0400
TZOFFSETTO:-0500
TZNAME:EST
DTSTART:20221106T060000
END:STANDARD
BEGIN:DAYLIGHT
TZOFFSETFROM:-0500
TZOFFSETTO:-0400
TZNAME:EDT
DTSTART:20230312T070000
END:DAYLIGHT
BEGIN:STANDARD
TZOFFSETFROM:-0400
TZOFFSETTO:-0500
TZNAME:EST
DTSTART:20231105T060000
END:STANDARD
BEGIN:DAYLIGHT
TZOFFSETFROM:-0500
TZOFFSETTO:-0400
TZNAME:EDT
DTSTART:20240310T070000
END:DAYLIGHT
BEGIN:STANDARD
TZOFFSETFROM:-0400
TZOFFSETTO:-0500
TZNAME:EST
DTSTART:20241103T060000
END:STANDARD
BEGIN:DAYLIGHT
TZOFFSETFROM:-0500
TZOFFSETTO:-0400
TZNAME:EDT
DTSTART:20250309T070000
END:DAYLIGHT
BEGIN:STANDARD
TZOFFSETFROM:-0400
TZOFFSETTO:-0500
TZNAME:EST
DTSTART:20251102T060000
END:STANDARD
END:VTIMEZONE
BEGIN:VEVENT
DTSTART;VALUE=DATE:20231225
DTEND;VALUE=DATE:20240102
DTSTAMP:20260422T135448
CREATED:20230614T195225Z
LAST-MODIFIED:20230614T195318Z
UID:67027-1703462400-1704153599@www.sbscharter.org
SUMMARY:Winter recess - no school
DESCRIPTION:School will be closed for the winter recess.
URL:https://www.sbscharter.org/event/winter-recess-no-school-3/
END:VEVENT
BEGIN:VEVENT
DTSTART;TZID=America/New_York:20240105T080000
DTEND;TZID=America/New_York:20240105T170000
DTSTAMP:20260422T135448
CREATED:20231102T182319Z
LAST-MODIFIED:20231102T182319Z
UID:67158-1704441600-1704474000@www.sbscharter.org
SUMMARY:Dress Down Day for students and staff
DESCRIPTION:
URL:https://www.sbscharter.org/event/dress-down-day-for-students-and-staff-11/
CATEGORIES:Dress Down Day
END:VEVENT
BEGIN:VEVENT
DTSTART;VALUE=DATE:20240115
DTEND;VALUE=DATE:20240116
DTSTAMP:20260422T135448
CREATED:20230614T195505Z
LAST-MODIFIED:20230614T195505Z
UID:67029-1705276800-1705363199@www.sbscharter.org
SUMMARY:Dr. Martin Luther King Jr. Day - school closed
DESCRIPTION:School will be closed to commemorate Dr. Martin Luther King\, Jr. Day.
URL:https://www.sbscharter.org/event/dr-martin-luther-king-jr-day-school-closed/
END:VEVENT
BEGIN:VEVENT
DTSTART;VALUE=DATE:20240122
DTEND;VALUE=DATE:20240123
DTSTAMP:20260422T135448
CREATED:20230103T200125Z
LAST-MODIFIED:20231213T201520Z
UID:66778-1705881600-1705967999@www.sbscharter.org
SUMMARY:SBS enrollment applications now available on the website
DESCRIPTION:
URL:https://www.sbscharter.org/event/sbs-enrollment-applications-now-available-on-the-website/
END:VEVENT
BEGIN:VEVENT
DTSTART;TZID=America/New_York:20240123T171500
DTEND;TZID=America/New_York:20240123T190000
DTSTAMP:20260422T135448
CREATED:20230927T194042Z
LAST-MODIFIED:20230927T194042Z
UID:67104-1706030100-1706036400@www.sbscharter.org
SUMMARY:Board of Directors Meeting
DESCRIPTION:The Board of Directors meet in person on the fourth Tuesday of each month.  The meeting begins at 5:15 P.M. with a public session.
URL:https://www.sbscharter.org/event/board-of-directors-meeting-30/
END:VEVENT
BEGIN:VEVENT
DTSTART;TZID=America/New_York:20240129T141000
DTEND;TZID=America/New_York:20240129T141000
DTSTAMP:20260422T135448
CREATED:20230614T200427Z
LAST-MODIFIED:20230614T200427Z
UID:67031-1706537400-1706537400@www.sbscharter.org
SUMMARY:2-Hour Early Dismissal - Professional Development for Teachers
DESCRIPTION:Students will dismiss at 1:40 P.M. Teachers will convene for professional development.
URL:https://www.sbscharter.org/event/2-hour-early-dismissal-professional-development-for-teachers-8/
END:VEVENT
END:VCALENDAR