BEGIN:VCALENDAR
VERSION:2.0
PRODID:-//Side by Side Charter School - ECPv6.15.20//NONSGML v1.0//EN
CALSCALE:GREGORIAN
METHOD:PUBLISH
X-WR-CALNAME:Side by Side Charter School
X-ORIGINAL-URL:https://www.sbscharter.org
X-WR-CALDESC:Events for Side by Side Charter School
REFRESH-INTERVAL;VALUE=DURATION:PT1H
X-Robots-Tag:noindex
X-PUBLISHED-TTL:PT1H
BEGIN:VTIMEZONE
TZID:America/New_York
BEGIN:DAYLIGHT
TZOFFSETFROM:-0500
TZOFFSETTO:-0400
TZNAME:EDT
DTSTART:20240310T070000
END:DAYLIGHT
BEGIN:STANDARD
TZOFFSETFROM:-0400
TZOFFSETTO:-0500
TZNAME:EST
DTSTART:20241103T060000
END:STANDARD
BEGIN:DAYLIGHT
TZOFFSETFROM:-0500
TZOFFSETTO:-0400
TZNAME:EDT
DTSTART:20250309T070000
END:DAYLIGHT
BEGIN:STANDARD
TZOFFSETFROM:-0400
TZOFFSETTO:-0500
TZNAME:EST
DTSTART:20251102T060000
END:STANDARD
BEGIN:DAYLIGHT
TZOFFSETFROM:-0500
TZOFFSETTO:-0400
TZNAME:EDT
DTSTART:20260308T070000
END:DAYLIGHT
BEGIN:STANDARD
TZOFFSETFROM:-0400
TZOFFSETTO:-0500
TZNAME:EST
DTSTART:20261101T060000
END:STANDARD
END:VTIMEZONE
BEGIN:VEVENT
DTSTART;TZID=America/New_York:20250605T093000
DTEND;TZID=America/New_York:20250605T150000
DTSTAMP:20260421T052542
CREATED:20250519T150626Z
LAST-MODIFIED:20250519T150626Z
UID:67720-1749115800-1749135600@www.sbscharter.org
SUMMARY:Upper School Challenge & 8th Grade vs SBS Staff Volleyball Game
DESCRIPTION:Students from grades 6-8 will compete in fun team activities in the morning. In the afternoon the 8th grade students will challenge the staff in a competitive game of volleyball. Come in and cheer on the team of your choice!
URL:https://www.sbscharter.org/event/upper-school-challenge-8th-grade-vs-sbs-staff-volleyball-game/
END:VEVENT
END:VCALENDAR