BEGIN:VCALENDAR
VERSION:2.0
PRODID:-//Side by Side Charter School - ECPv6.15.20//NONSGML v1.0//EN
CALSCALE:GREGORIAN
METHOD:PUBLISH
X-WR-CALNAME:Side by Side Charter School
X-ORIGINAL-URL:https://www.sbscharter.org
X-WR-CALDESC:Events for Side by Side Charter School
REFRESH-INTERVAL;VALUE=DURATION:PT1H
X-Robots-Tag:noindex
X-PUBLISHED-TTL:PT1H
BEGIN:VTIMEZONE
TZID:America/New_York
BEGIN:DAYLIGHT
TZOFFSETFROM:-0500
TZOFFSETTO:-0400
TZNAME:EDT
DTSTART:20240310T070000
END:DAYLIGHT
BEGIN:STANDARD
TZOFFSETFROM:-0400
TZOFFSETTO:-0500
TZNAME:EST
DTSTART:20241103T060000
END:STANDARD
BEGIN:DAYLIGHT
TZOFFSETFROM:-0500
TZOFFSETTO:-0400
TZNAME:EDT
DTSTART:20250309T070000
END:DAYLIGHT
BEGIN:STANDARD
TZOFFSETFROM:-0400
TZOFFSETTO:-0500
TZNAME:EST
DTSTART:20251102T060000
END:STANDARD
BEGIN:DAYLIGHT
TZOFFSETFROM:-0500
TZOFFSETTO:-0400
TZNAME:EDT
DTSTART:20260308T070000
END:DAYLIGHT
BEGIN:STANDARD
TZOFFSETFROM:-0400
TZOFFSETTO:-0500
TZNAME:EST
DTSTART:20261101T060000
END:STANDARD
END:VTIMEZONE
BEGIN:VEVENT
DTSTART;TZID=America/New_York:20250410T083000
DTEND;TZID=America/New_York:20250410T142000
DTSTAMP:20260421T021204
CREATED:20250122T165325Z
LAST-MODIFIED:20250122T165423Z
UID:67679-1744273800-1744294800@www.sbscharter.org
SUMMARY:7th Grade Trip to SoundWaters
DESCRIPTION:Seventh Graders will learn more about Long Island Sound as coastal explorers. Students will leave school at 8:30 AM and spend the day at SoundWaters in Stamford’s Cove Island Park. They will return to school by 2:20 PM.
URL:https://www.sbscharter.org/event/7th-grade-trip-to-soundwaters/
END:VEVENT
END:VCALENDAR