BEGIN:VCALENDAR
VERSION:2.0
PRODID:-//Side by Side Charter School - ECPv6.15.20//NONSGML v1.0//EN
CALSCALE:GREGORIAN
METHOD:PUBLISH
X-WR-CALNAME:Side by Side Charter School
X-ORIGINAL-URL:https://www.sbscharter.org
X-WR-CALDESC:Events for Side by Side Charter School
REFRESH-INTERVAL;VALUE=DURATION:PT1H
X-Robots-Tag:noindex
X-PUBLISHED-TTL:PT1H
BEGIN:VTIMEZONE
TZID:America/New_York
BEGIN:DAYLIGHT
TZOFFSETFROM:-0500
TZOFFSETTO:-0400
TZNAME:EDT
DTSTART:20230312T070000
END:DAYLIGHT
BEGIN:STANDARD
TZOFFSETFROM:-0400
TZOFFSETTO:-0500
TZNAME:EST
DTSTART:20231105T060000
END:STANDARD
BEGIN:DAYLIGHT
TZOFFSETFROM:-0500
TZOFFSETTO:-0400
TZNAME:EDT
DTSTART:20240310T070000
END:DAYLIGHT
BEGIN:STANDARD
TZOFFSETFROM:-0400
TZOFFSETTO:-0500
TZNAME:EST
DTSTART:20241103T060000
END:STANDARD
BEGIN:DAYLIGHT
TZOFFSETFROM:-0500
TZOFFSETTO:-0400
TZNAME:EDT
DTSTART:20250309T070000
END:DAYLIGHT
BEGIN:STANDARD
TZOFFSETFROM:-0400
TZOFFSETTO:-0500
TZNAME:EST
DTSTART:20251102T060000
END:STANDARD
END:VTIMEZONE
BEGIN:VEVENT
DTSTART;VALUE=DATE:20240607
DTEND;VALUE=DATE:20240608
DTSTAMP:20260421T222353
CREATED:20231102T181040Z
LAST-MODIFIED:20231102T182200Z
UID:67155-1717718400-1717804799@www.sbscharter.org
SUMMARY:Dress Down Day for students and staff
DESCRIPTION:Students may wear an outfit of their choice on Dress Down Days.  Please remember that clothing and footwear must be appropriate for active play during recess\, gym and art class.
URL:https://www.sbscharter.org/event/dress-down-day-for-students-and-staff-14/
CATEGORIES:Dress Down Day
END:VEVENT
BEGIN:VEVENT
DTSTART;VALUE=DATE:20240607
DTEND;VALUE=DATE:20240608
DTSTAMP:20260421T222353
CREATED:20240320T151249Z
LAST-MODIFIED:20240508T144828Z
UID:67261-1717718400-1717804799@www.sbscharter.org
SUMMARY:Field Day
DESCRIPTION:Annual SBS Field Day.  Rain date is Wednesday\, June 12.
URL:https://www.sbscharter.org/event/field-day-tentative-date/
END:VEVENT
END:VCALENDAR