BEGIN:VCALENDAR
VERSION:2.0
PRODID:-//Side by Side Charter School - ECPv6.15.20//NONSGML v1.0//EN
CALSCALE:GREGORIAN
METHOD:PUBLISH
X-ORIGINAL-URL:https://www.sbscharter.org
X-WR-CALDESC:Events for Side by Side Charter School
REFRESH-INTERVAL;VALUE=DURATION:PT1H
X-Robots-Tag:noindex
X-PUBLISHED-TTL:PT1H
BEGIN:VTIMEZONE
TZID:America/New_York
BEGIN:DAYLIGHT
TZOFFSETFROM:-0500
TZOFFSETTO:-0400
TZNAME:EDT
DTSTART:20230312T070000
END:DAYLIGHT
BEGIN:STANDARD
TZOFFSETFROM:-0400
TZOFFSETTO:-0500
TZNAME:EST
DTSTART:20231105T060000
END:STANDARD
BEGIN:DAYLIGHT
TZOFFSETFROM:-0500
TZOFFSETTO:-0400
TZNAME:EDT
DTSTART:20240310T070000
END:DAYLIGHT
BEGIN:STANDARD
TZOFFSETFROM:-0400
TZOFFSETTO:-0500
TZNAME:EST
DTSTART:20241103T060000
END:STANDARD
BEGIN:DAYLIGHT
TZOFFSETFROM:-0500
TZOFFSETTO:-0400
TZNAME:EDT
DTSTART:20250309T070000
END:DAYLIGHT
BEGIN:STANDARD
TZOFFSETFROM:-0400
TZOFFSETTO:-0500
TZNAME:EST
DTSTART:20251102T060000
END:STANDARD
END:VTIMEZONE
BEGIN:VEVENT
DTSTART;TZID=America/New_York:20240425T170000
DTEND;TZID=America/New_York:20240425T170000
DTSTAMP:20260422T073523
CREATED:20240904T170642Z
LAST-MODIFIED:20240904T184032Z
UID:67602-1714064400-1714064400@www.sbscharter.org
SUMMARY:Lottery Drawing
DESCRIPTION:
URL:https://www.sbscharter.org/event/lottery-drawing/
END:VEVENT
BEGIN:VEVENT
DTSTART;TZID=America/New_York:20240425T180000
DTEND;TZID=America/New_York:20240425T193000
DTSTAMP:20260422T073523
CREATED:20240328T054932Z
LAST-MODIFIED:20240411T154728Z
UID:67288-1714068000-1714073400@www.sbscharter.org
SUMMARY:SEL Parent Night
DESCRIPTION:Parents of students in grades K-8 are invited to attend a parent forum about social-emotional learning\, presented by guest speakers\, James Martinez of the Norwalk Public Schools and Shaaron Sinvilcin and Anamilena Moreno of Norwalk Acts.  There will be two separate presentations\, one in English and another in Spanish.
URL:https://www.sbscharter.org/event/sel-parent-night/
END:VEVENT
END:VCALENDAR