BEGIN:VCALENDAR
VERSION:2.0
PRODID:-//Side by Side Charter School - ECPv6.15.20//NONSGML v1.0//EN
CALSCALE:GREGORIAN
METHOD:PUBLISH
X-WR-CALNAME:Side by Side Charter School
X-ORIGINAL-URL:https://www.sbscharter.org
X-WR-CALDESC:Events for Side by Side Charter School
REFRESH-INTERVAL;VALUE=DURATION:PT1H
X-Robots-Tag:noindex
X-PUBLISHED-TTL:PT1H
BEGIN:VTIMEZONE
TZID:America/New_York
BEGIN:DAYLIGHT
TZOFFSETFROM:-0500
TZOFFSETTO:-0400
TZNAME:EDT
DTSTART:20220313T070000
END:DAYLIGHT
BEGIN:STANDARD
TZOFFSETFROM:-0400
TZOFFSETTO:-0500
TZNAME:EST
DTSTART:20221106T060000
END:STANDARD
BEGIN:DAYLIGHT
TZOFFSETFROM:-0500
TZOFFSETTO:-0400
TZNAME:EDT
DTSTART:20230312T070000
END:DAYLIGHT
BEGIN:STANDARD
TZOFFSETFROM:-0400
TZOFFSETTO:-0500
TZNAME:EST
DTSTART:20231105T060000
END:STANDARD
BEGIN:DAYLIGHT
TZOFFSETFROM:-0500
TZOFFSETTO:-0400
TZNAME:EDT
DTSTART:20240310T070000
END:DAYLIGHT
BEGIN:STANDARD
TZOFFSETFROM:-0400
TZOFFSETTO:-0500
TZNAME:EST
DTSTART:20241103T060000
END:STANDARD
END:VTIMEZONE
BEGIN:VEVENT
DTSTART;TZID=America/New_York:20230615T143000
DTEND;TZID=America/New_York:20230615T150000
DTSTAMP:20260422T205737
CREATED:20230524T195632Z
LAST-MODIFIED:20230524T195632Z
UID:66996-1686839400-1686841200@www.sbscharter.org
SUMMARY:All School Meeting
DESCRIPTION:The last All School Meeting of the year will be on Thursday\, June 15 at 2:30 P.M.
URL:https://www.sbscharter.org/event/all-school-meeting-10/
END:VEVENT
BEGIN:VEVENT
DTSTART;TZID=America/New_York:20230615T153000
DTEND;TZID=America/New_York:20230615T173000
DTSTAMP:20260422T205737
CREATED:20230501T143051Z
LAST-MODIFIED:20230501T143135Z
UID:66965-1686843000-1686850200@www.sbscharter.org
SUMMARY:Last day for the Extended Day program
DESCRIPTION:This is the last day of the extended day program for grades PK through 5th grade.
URL:https://www.sbscharter.org/event/last-day-for-the-extended-day-program/
END:VEVENT
BEGIN:VEVENT
DTSTART;TZID=America/New_York:20230615T170000
DTEND;TZID=America/New_York:20230615T180000
DTSTAMP:20260422T205737
CREATED:20230524T195355Z
LAST-MODIFIED:20230524T195355Z
UID:66994-1686848400-1686852000@www.sbscharter.org
SUMMARY:SBS Board of Directors meeting
DESCRIPTION:
URL:https://www.sbscharter.org/event/sbs-board-of-directors-meeting/
END:VEVENT
BEGIN:VEVENT
DTSTART;TZID=America/New_York:20230615T180000
DTEND;TZID=America/New_York:20230615T190000
DTSTAMP:20260422T205737
CREATED:20230424T173933Z
LAST-MODIFIED:20230424T174427Z
UID:66938-1686852000-1686855600@www.sbscharter.org
SUMMARY:Eighth Grade Graduation Ceremony
DESCRIPTION:
URL:https://www.sbscharter.org/event/eighth-grade-graduation-ceremony-2/
END:VEVENT
END:VCALENDAR