BEGIN:VCALENDAR
VERSION:2.0
PRODID:-//Side by Side Charter School - ECPv6.15.20//NONSGML v1.0//EN
CALSCALE:GREGORIAN
METHOD:PUBLISH
X-ORIGINAL-URL:https://www.sbscharter.org
X-WR-CALDESC:Events for Side by Side Charter School
REFRESH-INTERVAL;VALUE=DURATION:PT1H
X-Robots-Tag:noindex
X-PUBLISHED-TTL:PT1H
BEGIN:VTIMEZONE
TZID:America/New_York
BEGIN:DAYLIGHT
TZOFFSETFROM:-0500
TZOFFSETTO:-0400
TZNAME:EDT
DTSTART:20220313T070000
END:DAYLIGHT
BEGIN:STANDARD
TZOFFSETFROM:-0400
TZOFFSETTO:-0500
TZNAME:EST
DTSTART:20221106T060000
END:STANDARD
BEGIN:DAYLIGHT
TZOFFSETFROM:-0500
TZOFFSETTO:-0400
TZNAME:EDT
DTSTART:20230312T070000
END:DAYLIGHT
BEGIN:STANDARD
TZOFFSETFROM:-0400
TZOFFSETTO:-0500
TZNAME:EST
DTSTART:20231105T060000
END:STANDARD
BEGIN:DAYLIGHT
TZOFFSETFROM:-0500
TZOFFSETTO:-0400
TZNAME:EDT
DTSTART:20240310T070000
END:DAYLIGHT
BEGIN:STANDARD
TZOFFSETFROM:-0400
TZOFFSETTO:-0500
TZNAME:EST
DTSTART:20241103T060000
END:STANDARD
END:VTIMEZONE
BEGIN:VEVENT
DTSTART;VALUE=DATE:20230609
DTEND;VALUE=DATE:20230610
DTSTAMP:20260422T205922
CREATED:20230309T165124Z
LAST-MODIFIED:20230309T165124Z
UID:66874-1686268800-1686355199@www.sbscharter.org
SUMMARY:Field Day Rain Date
DESCRIPTION:Field day rain date.
URL:https://www.sbscharter.org/event/field-day-rain-date-2/
END:VEVENT
BEGIN:VEVENT
DTSTART;TZID=America/New_York:20230609T093000
DTEND;TZID=America/New_York:20230609T113000
DTSTAMP:20260422T205922
CREATED:20230524T195231Z
LAST-MODIFIED:20230524T195231Z
UID:66992-1686303000-1686310200@www.sbscharter.org
SUMMARY:Upper School Challenge at Ryan Park
DESCRIPTION:Upper School Challenge for 6-8 grade students at Ryan Park.
URL:https://www.sbscharter.org/event/upper-school-challenge-at-ryan-park/
END:VEVENT
END:VCALENDAR